BEGIN:VCALENDAR
VERSION:2.0
PRODID:-//ThingsLogic.com - ECPv6.15.20//NONSGML v1.0//EN
CALSCALE:GREGORIAN
METHOD:PUBLISH
X-ORIGINAL-URL:https://www.thingslogic.com
X-WR-CALDESC:Veranstaltungen für ThingsLogic.com
REFRESH-INTERVAL;VALUE=DURATION:PT1H
X-Robots-Tag:noindex
X-PUBLISHED-TTL:PT1H
BEGIN:VTIMEZONE
TZID:Europe/Helsinki
BEGIN:DAYLIGHT
TZOFFSETFROM:+0200
TZOFFSETTO:+0300
TZNAME:EEST
DTSTART:20190331T010000
END:DAYLIGHT
BEGIN:STANDARD
TZOFFSETFROM:+0300
TZOFFSETTO:+0200
TZNAME:EET
DTSTART:20191027T010000
END:STANDARD
BEGIN:DAYLIGHT
TZOFFSETFROM:+0200
TZOFFSETTO:+0300
TZNAME:EEST
DTSTART:20200329T010000
END:DAYLIGHT
BEGIN:STANDARD
TZOFFSETFROM:+0300
TZOFFSETTO:+0200
TZNAME:EET
DTSTART:20201025T010000
END:STANDARD
BEGIN:DAYLIGHT
TZOFFSETFROM:+0200
TZOFFSETTO:+0300
TZNAME:EEST
DTSTART:20210328T010000
END:DAYLIGHT
BEGIN:STANDARD
TZOFFSETFROM:+0300
TZOFFSETTO:+0200
TZNAME:EET
DTSTART:20211031T010000
END:STANDARD
BEGIN:DAYLIGHT
TZOFFSETFROM:+0200
TZOFFSETTO:+0300
TZNAME:EEST
DTSTART:20220327T010000
END:DAYLIGHT
BEGIN:STANDARD
TZOFFSETFROM:+0300
TZOFFSETTO:+0200
TZNAME:EET
DTSTART:20221030T010000
END:STANDARD
BEGIN:DAYLIGHT
TZOFFSETFROM:+0200
TZOFFSETTO:+0300
TZNAME:EEST
DTSTART:20230326T010000
END:DAYLIGHT
BEGIN:STANDARD
TZOFFSETFROM:+0300
TZOFFSETTO:+0200
TZNAME:EET
DTSTART:20231029T010000
END:STANDARD
END:VTIMEZONE
BEGIN:VTIMEZONE
TZID:Europe/Paris
BEGIN:DAYLIGHT
TZOFFSETFROM:+0100
TZOFFSETTO:+0200
TZNAME:CEST
DTSTART:20190331T010000
END:DAYLIGHT
BEGIN:STANDARD
TZOFFSETFROM:+0200
TZOFFSETTO:+0100
TZNAME:CET
DTSTART:20191027T010000
END:STANDARD
BEGIN:DAYLIGHT
TZOFFSETFROM:+0100
TZOFFSETTO:+0200
TZNAME:CEST
DTSTART:20200329T010000
END:DAYLIGHT
BEGIN:STANDARD
TZOFFSETFROM:+0200
TZOFFSETTO:+0100
TZNAME:CET
DTSTART:20201025T010000
END:STANDARD
BEGIN:DAYLIGHT
TZOFFSETFROM:+0100
TZOFFSETTO:+0200
TZNAME:CEST
DTSTART:20210328T010000
END:DAYLIGHT
BEGIN:STANDARD
TZOFFSETFROM:+0200
TZOFFSETTO:+0100
TZNAME:CET
DTSTART:20211031T010000
END:STANDARD
BEGIN:DAYLIGHT
TZOFFSETFROM:+0100
TZOFFSETTO:+0200
TZNAME:CEST
DTSTART:20220327T010000
END:DAYLIGHT
BEGIN:STANDARD
TZOFFSETFROM:+0200
TZOFFSETTO:+0100
TZNAME:CET
DTSTART:20221030T010000
END:STANDARD
END:VTIMEZONE
BEGIN:VEVENT
DTSTART;VALUE=DATE:20221201
DTEND;VALUE=DATE:20221203
DTSTAMP:20260419T153356
CREATED:20220722T094434Z
LAST-MODIFIED:20220722T094434Z
UID:1493-1669852800-1670025599@www.thingslogic.com
SUMMARY:Edge Computing Expo - London
DESCRIPTION:REALISING THE TRUE POTENTIAL OF EDGE FOR ENTREPRISE\n\n\nSENIOR-LEVEL EVENTS AND CONFERENCES\nIN-PERSON & VIRTUAL\n\nThe Edge Computing Expo Global\, part of TechEx\, is a FREE in-person edge computing event and conference which will take place on 1 December 2022 (MST) at Olympia\, London. Consisting of top-level content and thought leadership discussions exploring the Edge Computing ecosystem.  \nIn a world where speed\, connectivity and real-time access to data have become a way of life\, edge computing has fast become an essential component of virtually every business’s IT strategy. For forward-thinking and dynamic enterprises\, edge computing can enable a significant increase in operational efficiency and automation\, while dramatically reducing latency. \n\n 
URL:https://www.thingslogic.com/event/edge-computing-expo-london/
LOCATION:Olympia – London\, London\, Großbritannien (Vereinigtes Königreich)
ATTACH;FMTTYPE=image/jpeg:https://www.thingslogic.com/wp-content/uploads/2021/03/pexels-jeremy-waterhouse-3665442-scaled.jpg
END:VEVENT
BEGIN:VEVENT
DTSTART;TZID=Europe/Helsinki:20220920T090000
DTEND;TZID=Europe/Helsinki:20220921T170000
DTSTAMP:20260419T153356
CREATED:20220722T093601Z
LAST-MODIFIED:20220722T093601Z
UID:1487-1663664400-1663779600@www.thingslogic.com
SUMMARY:IoT Tech Expo Europe
DESCRIPTION:POWERING THE CONNECTED WORLD WITH IOT\n\n\nFREE TO ATTEND HYBRID EVENT | 20-21 SEPTEMBER 2022\nRAI\, AMSTERDAM & ONLINE\n\n  \n \nFind more under https://www.iottechexpo.com/europe/
URL:https://www.thingslogic.com/event/iot-tech-expo-europe/
LOCATION:RAI Amsterdam\, Niederlande
ATTACH;FMTTYPE=image/jpeg:https://www.thingslogic.com/wp-content/uploads/2022/07/djicd7b_lle.jpg
END:VEVENT
BEGIN:VEVENT
DTSTART;TZID=Europe/Helsinki:20210916T080000
DTEND;TZID=Europe/Helsinki:20210916T190000
DTSTAMP:20260419T153356
CREATED:20210530T133437Z
LAST-MODIFIED:20210630T135213Z
UID:1362-1631779200-1631818800@www.thingslogic.com
SUMMARY:Deep Edge - wenn Sensoren intelligent werden
DESCRIPTION:Christian Anselmi wird verschiedene aktuelle und zukünftige Konzepte für „Deep Edge Sensoren“ aufzeigen. Dabei werden bereits „im“ Sensor die Daten durch nachladbare Algorithmen aus dem Umfeld des Machine Learnings vor verarbeitet. Datenübertragungen werden reduziert und die Latenzzeit für eine Reaktion auf Sensorwerte deutlich reduziert. \n  \nÜber Dipl.-Ing. Christian Anselmi: \nEr ist seit vielen Jahren im Umfeld von IoT und Idnustrie 4.0 mit seiner Firma Antevorte selbständig tätig und hilft Firmen ihre Ideen rasch in erste funktionierende Prototypen umzuwandeln. Innovation und Agilität sind dabei wichtige Elemente die er den Projekten etabliert. Daneben ist er Hochschullehrer an der FHV und unterrichtet im Umfeld der Elektrotechnik. \nIm ThingsLogic Netzwerk ist er seit vielen Jahren Vorstand und fällt immer wieder durch seine ausgefallenen Ideen auf. Daneben ist er in zahlreichen anderen Tech Organisationen und Verbänden organisiert. Sein Steckenpferd ist es Jugendliche frühzeitig für die Technik zu begeistern. \n 
URL:https://www.thingslogic.com/event/deep-edge-wenn-sensoren-intelligent-werden/
LOCATION:Postgarage Dornbirn\, Hintere Achmühlerstraße 1c\, Dornbirn\, 6858\, Österreich
ATTACH;FMTTYPE=image/jpeg:https://www.thingslogic.com/wp-content/uploads/2021/06/pexels-tara-winstead-8386440-scaled.jpg
ORGANIZER;CN="ThingsLogic":MAILTO:team@thingslogic.com
END:VEVENT
BEGIN:VEVENT
DTSTART;TZID=Europe/Helsinki:20210707T190000
DTEND;TZID=Europe/Helsinki:20210707T210000
DTSTAMP:20260419T153356
CREATED:20210608T140406Z
LAST-MODIFIED:20210608T141345Z
UID:1311-1625684400-1625691600@www.thingslogic.com
SUMMARY:Wenn das Pferd zum Zebra wird muss AI dabei sein - Manuel & Michael Wäger klären uns auf
DESCRIPTION:Ein Einblick in die faszinierende Welt des maschinellen Sehens und deren Anwendungsgebiete. Wie die traditionelle Bildverarbeitung durch neuartige Deep Learning Modelle verändert und neu definiert wird. \nHier noch ein paar Links zum vorab informieren: \nhttps://wiki.pathmind.com/neural-network \nhttps://towardsdatascience.com/simple-introduction-to-convolutional-neural-networks-cdf8d3077bac \nhttps://machinelearningmastery.com/what-is-computer-vision/ \n______________________________________________________________ \n  \n  \nAd Personas: \nManuel Wäger: \n\n\n\nFH-Technikum Wien: Mechatronik & Robotik\nSpezialisierung: Deep Learning und Computer Vision\n\n\n\nDiploma: \n\n\n\nIndustrielle Oberflächenprüfung durch Neuronale Netze\nVerschleißdetektion einer Rundtakt- Werkzeugmaschine durch maschinelles Lernen\nData Scientist für industrielle Bildverarbeitung und IoT bei Julius Blum GmbH\nGründung: deeprotype OG\n\n\n\nMichael Wäger: \n\n\n\nFH-Vorarlberg: Elektrotechnik Dual\nDaten- und Prozessleittechnik bei illwerke vkw AG\nSpezialisierung: Deep Learning (CV) und Data Mining\n\n\n\nDiploma: \n\n\n\nMachine Learning (NLP) Datenauswertung für Kraftwerksanlagen\nMaschinelle Bildkolorierung von IR-Nachtaufnahmen mithilfe Deep Learning\nGründung: deeprotype OG
URL:https://www.thingslogic.com/event/wenn-das-pferd-zum-zebra-wird-muss-ai-dabei-sein-manuel-michael-waeger-klaeren-uns-auf/
LOCATION:Postgarage Dornbirn\, Hintere Achmühlerstraße 1c\, Dornbirn\, 6858\, Österreich
ATTACH;FMTTYPE=image/png:https://www.thingslogic.com/wp-content/uploads/2021/06/AI_Waeger.png
END:VEVENT
BEGIN:VEVENT
DTSTART;TZID=Europe/Helsinki:20210305T190000
DTEND;TZID=Europe/Helsinki:20210305T210000
DTSTAMP:20260419T153356
CREATED:20200708T142603Z
LAST-MODIFIED:20200901T200920Z
UID:238-1614970800-1614978000@www.thingslogic.com
SUMMARY:Smart City Dornbirn Finale
DESCRIPTION:Der #SCD21 geht ab sofort an den Start und ist für Einreichungen offen! Die Stadt Dornbirn lädt alle kreativen Köpfe ein und sucht nach frischen Ideen und innovativen Lösungen\, die eine nachhaltige Entwicklung der Stadt fördern. \nAblauf: Der Wettbewerb ist wieder in 2 Phasen aufgeteilt\nIn der Ideenphase genügt es das Projekt zu beschreiben und mögliche Umsetzungsvorschläge zu präsentieren. In der zweiten Phase sind die TeilnehmerInnen dazu aufgefordert\, Prototypen zu konstruieren und diese bis zum 2. März 2021 einzureichen.\nBeim “Smart City Dornbirn Finale” am 5. März 2021 werden die besten Projekte von einer Fachjury prämiert und mit Geldpreisen in der Gesamthöhe von EUR 6.000 ausgezeichnet. \nEckdaten und Informationen\n● Anmeldung und Infos unter: smartcitydornbirn.com\n● Einreichfrist Ideen-Phase 1: 19. November 2020\n● Präsentation der Ideen-Phase 1:  20. November 2020\, online\n● Einreichfrist Prototypen-Phase 2:  4. März 2021\n● Smart City Dornbirn Finale: 5. März 2021 in der Postgarage Dornbirn\n● Veranstalter: Stadt Dornbirn\n● Partner: InnovationLab\, Illwerke VKW\, ThingsLogic\n● Anmeldung und Infos unter: smartcitydornbirn.com
URL:https://www.thingslogic.com/event/smart-city-dornbirn-finale/
LOCATION:Postgarage Dornbirn\, Hintere Achmühlerstraße 1c\, Dornbirn\, 6858\, Österreich
ATTACH;FMTTYPE=image/jpeg:https://www.thingslogic.com/wp-content/uploads/2020/03/49644776701_82f7762933_o.jpg
END:VEVENT
BEGIN:VEVENT
DTSTART;TZID=Europe/Paris:20210219T193000
DTEND;TZID=Europe/Paris:20210219T210000
DTSTAMP:20260419T153356
CREATED:20200701T140010Z
LAST-MODIFIED:20210202T131456Z
UID:155-1613763000-1613768400@www.thingslogic.com
SUMMARY:Open Data for Rookies: Dr. Wirthensohn / RA Kanzlei TWP
DESCRIPTION:  \n  \nDr. Wirthensohn / RA TWP wird in verständlichen Worten „gos und nogos“ von Open-Data Projekten aus der Sicht eines Juristen erklären. \nEine Veranstaltung in Kooperation mit den Digitale Initiativen \n  \nFür Fragen im Vorfeld\, bitte einfach mich kontaktieren – euer Christian Anselmi \n 
URL:https://www.thingslogic.com/event/open-data-for-rookies-dr-wirthensohn-ra-kanzlei-tpw/
LOCATION:Virtuell\, Virtuell\, Österreich
END:VEVENT
BEGIN:VEVENT
DTSTART;TZID=Europe/Helsinki:20210112T190000
DTEND;TZID=Europe/Helsinki:20210112T203000
DTSTAMP:20260419T153356
CREATED:20200702T101331Z
LAST-MODIFIED:20210112T132256Z
UID:194-1610478000-1610483400@www.thingslogic.com
SUMMARY:E-Mobilität als Baustein der (digitalisierten) Energiewende: DI Dr. Michael Hirschbichler/illwerke vkw
DESCRIPTION:Die Elektromobilität wird in den kommenden Jahren die Verbrennungsfahrzeuge großteils ablösen. Was passiert bei einem Ladevorgang im Hintergrund\, warum ist ein Elektroauto eine Ergänzung zu einem Niedrigenergiehaus und warum verändert der Wandel in der Antriebstechnologie nicht nur die Autoindustrie sondern auch die Energiewirtschaft?
URL:https://www.thingslogic.com/event/e-mobilitaet-und-digital-services-dr-michael-hirschbichler-vlotte/
LOCATION:Postgarage Dornbirn\, Hintere Achmühlerstraße 1c\, Dornbirn\, 6858\, Österreich
ATTACH;FMTTYPE=image/jpeg:https://www.thingslogic.com/wp-content/uploads/2020/07/eaut-emob-1.jpg
END:VEVENT
BEGIN:VEVENT
DTSTART;VALUE=DATE:20201120
DTEND;VALUE=DATE:20201121
DTSTAMP:20260419T153356
CREATED:20200708T142350Z
LAST-MODIFIED:20200901T200601Z
UID:236-1605830400-1605916799@www.thingslogic.com
SUMMARY:Smart City Dornbirn Phase1
DESCRIPTION:Der #SCD21 geht ab sofort an den Start und ist für Einreichungen offen! Die Stadt Dornbirn lädt alle kreativen Köpfe ein und sucht nach frischen Ideen und innovativen Lösungen\, die eine nachhaltige Entwicklung der Stadt fördern. \nAblauf: Der Wettbewerb ist wieder in 2 Phasen aufgeteilt\nIn der Ideenphase genügt es das Projekt zu beschreiben und mögliche Umsetzungsvorschläge zu präsentieren. In der zweiten Phase sind die TeilnehmerInnen dazu aufgefordert\, Prototypen zu konstruieren und diese bis zum 2. März 2021 einzureichen.\nBeim “Smart City Dornbirn Finale” am 5. März 2021 werden die besten Projekte von einer Fachjury prämiert und mit Geldpreisen in der Gesamthöhe von EUR 6.000 ausgezeichnet. \nEckdaten und Informationen\n● Anmeldung und Infos unter: smartcitydornbirn.com\n● Einreichfrist Ideen-Phase 1: 19. November 2020\n● Präsentation der Ideen-Phase 1:  20. November 2020\, online\n● Einreichfrist Prototypen-Phase 2:  4. März 2021\n● Smart City Dornbirn Finale: 5. März 2021 in der Postgarage Dornbirn\n● Veranstalter: Stadt Dornbirn\n● Partner: InnovationLab\, Illwerke VKW\, ThingsLogic\n● Anmeldung und Infos unter: smartcitydornbirn.com
URL:https://www.thingslogic.com/event/smart-city-dornbirn-phase1/
ATTACH;FMTTYPE=image/jpeg:https://www.thingslogic.com/wp-content/uploads/2020/08/SCD-2021-orange-600x600-1.jpg
END:VEVENT
BEGIN:VEVENT
DTSTART;VALUE=DATE:20201117
DTEND;VALUE=DATE:20201119
DTSTAMP:20260419T153356
CREATED:20200824T132909Z
LAST-MODIFIED:20200917T101829Z
UID:530-1605571200-1605743999@www.thingslogic.com
SUMMARY:intelligent edge conference - online
DESCRIPTION:Edge AI bezeichnet eine Technologie\, bei der die Datenintelligenz von der Cloud zurück an die Edge gebracht wird\, also in das Embedded System oder Gateway. Fortgeschrittene KI und Analytics zählen zu den 5 Megatrends bis 2029. Um Entwicklern\, technischem Management und Produktmanagern die passende Wissensplattform zu bieten\, hat unsere Fachredaktion die i-edge conference ins Leben gerufen – zu gewohnt günstigen Teilnahmepreisen ab 220 Euro. \nVeranstalter: Elektronik Praxis \nund ist eine Marke der Vogel Communications Group \n  \n  \nThingslogic übernimmt keine wie auch immer geartete Haftung für diese Online Conference\, wir stellen nur Basis Informationen und einen URL Link zu dieser Konferenz bereit: Alle Rechte liegen bei der Vogel Communications Group
URL:https://www.thingslogic.com/event/intelligent-edge-conference-online/
ATTACH;FMTTYPE=image/jpeg:https://www.thingslogic.com/wp-content/uploads/2020/08/58-i-edge.jpg
END:VEVENT
BEGIN:VEVENT
DTSTART;TZID=Europe/Helsinki:20201022T000000
DTEND;TZID=Europe/Helsinki:20201022T122000
DTSTAMP:20260419T153356
CREATED:20200901T200401Z
LAST-MODIFIED:20200901T200401Z
UID:560-1603324800-1603369200@www.thingslogic.com
SUMMARY:Thingslogic - wer ist das
DESCRIPTION:Mit einer Ausdehnung auf das gesamte Rheintal\, inklusive der angrenzenden Schweiz als auch im grenznahen Deutschland\, stellt der Verein ThingsLogic das flächenmäßig grösste LPWAN (Low Power Wide Area Network) Österreichs als Open Access Lösung zu Verfügung. Was man damit machen kann wird DI Christian Anselmi in einem Impulsvortrag online erklären. Die Anwendungsmöglichkeiten sind vielfältig und reichen von Smart Metering (Wasser\, Strom\, Gas\, …) über Parkraumbewirtschaftung bis hin zur Überwachung der Kühlkette ind der Lebensmittel Logistik. \n20 Minuten für die Smartcity von Morgen\, sicher und bequem via Videokonferenz: https://meet.jit.si/RichWheatBoilPretty \nauf Ihr zahlreiches „Erscheinen“ freu ich mich – Christian Anselmi
URL:https://www.thingslogic.com/event/thingslogic-wer-ist-das/
LOCATION:Virtuell\, Virtuell\, Österreich
ATTACH;FMTTYPE=image/jpeg:https://www.thingslogic.com/wp-content/uploads/2020/07/27164560_461928040871063_1963658052087806769_o.jpg
ORGANIZER;CN="ThingsLogic":MAILTO:team@thingslogic.com
END:VEVENT
BEGIN:VEVENT
DTSTART;VALUE=DATE:20201009
DTEND;VALUE=DATE:20201231
DTSTAMP:20260419T153356
CREATED:20200901T124854Z
LAST-MODIFIED:20200901T200519Z
UID:401-1602201600-1609372799@www.thingslogic.com
SUMMARY:Lange Nacht der Forschung (LNF) digital
DESCRIPTION:Lange Nacht der Forschung \n \nDIGITALE LANGE NACHT DER FORSCHUNG \nDie Lange Nacht der Forschung (LNF) ist einzigartig. Sie ist das größte Event für Wissenschaft und Forschung im deutschsprachigen Raum. Alle 2 Jahre werden an einem Abend in ganz Österreich innovative Erkenntnisse und bahnbrechende Technologien für ein breites Publikum zugänglich gemacht. \nAm 9. Oktober 2020 findet die Lange Nacht der Forschung erstmals digital statt und wir sind als Verein mitten drinn! Alle Infos zu unserem Verein findet ihr hier \nWer uns gleich eine Frage stellen muss\, wir sind am 9.10.2020 von 19:00 bis 20:00 unter https://meet.jit.si/SweetCulturesConnectStrangely erreichbar  \n 
URL:https://www.thingslogic.com/event/lange-nacht-der-forschung-lnf-digital/
ATTACH;FMTTYPE=image/png:https://www.thingslogic.com/wp-content/uploads/2020/07/LNF2020.png
ORGANIZER;CN="ThingsLogic":MAILTO:team@thingslogic.com
END:VEVENT
BEGIN:VEVENT
DTSTART;TZID=Europe/Paris:20200930T190000
DTEND;TZID=Europe/Paris:20200930T203000
DTSTAMP:20260419T153356
CREATED:20200701T140024Z
LAST-MODIFIED:20200930T124753Z
UID:149-1601492400-1601497800@www.thingslogic.com
SUMMARY:AI in der Industrie Praxis: Dr. Klaus Frick / Prof. Mathematik NTB
DESCRIPTION:  \nProf. Dr. Frick gibt Einblicke in KI Projekte aus der Industrie. Was können auch kleinere Unternehmen im Umfeld von KI umsetzen \nDiese Veranstaltung findet in Kooperation mit den Digitale Initiativen statt. \n  \nACHTUNG: diese Veranstaltung wird auch als Online Stream angeboten: https://www.twitch.tv/digitaleinitiativen
URL:https://www.thingslogic.com/event/ai-in-der-industrie-praxis-dr-klaus-frick-prof-mathematik-ntb/
END:VEVENT
BEGIN:VEVENT
DTSTART;TZID=Europe/Helsinki:20200720T100000
DTEND;TZID=Europe/Helsinki:20200720T120000
DTSTAMP:20260419T153356
CREATED:20200708T143746Z
LAST-MODIFIED:20200708T143746Z
UID:240-1595239200-1595246400@www.thingslogic.com
SUMMARY:Unstrukturierte Daten: Anwendungsbereiche & Methodiken
DESCRIPTION:  \nBerge von unstrukturierte Daten gibt es in den meisten Unternehmen. Das verborgene Wissen darin zugänglich zu machen\, ist eine Aufgabenstellung\, die sich schon viele namhafte Unternehmen vorgenommen haben. Mit den Entwicklungen im Bereich KI und der benötigten Rechenpower erschließen sich neue Möglichkeiten. \n  \nUnstrukturierte Daten: Anwendungsbereiche & Methodiken
URL:https://www.thingslogic.com/event/unstrukturierte-daten-anwendungsbereiche-methodiken/
ORGANIZER;CN="Plattform V Space":MAILTO:hello@plattform-v.io
END:VEVENT
END:VCALENDAR